BEGIN:VCALENDAR
VERSION:2.0
PRODID:-//Ruth's Diner - ECPv6.15.20//NONSGML v1.0//EN
CALSCALE:GREGORIAN
METHOD:PUBLISH
X-WR-CALNAME:Ruth's Diner
X-ORIGINAL-URL:https://ruthsdiner.com
X-WR-CALDESC:Events for Ruth's Diner
REFRESH-INTERVAL;VALUE=DURATION:PT1H
X-Robots-Tag:noindex
X-PUBLISHED-TTL:PT1H
BEGIN:VTIMEZONE
TZID:America/Denver
BEGIN:DAYLIGHT
TZOFFSETFROM:-0700
TZOFFSETTO:-0600
TZNAME:MDT
DTSTART:20240310T090000
END:DAYLIGHT
BEGIN:STANDARD
TZOFFSETFROM:-0600
TZOFFSETTO:-0700
TZNAME:MST
DTSTART:20241103T080000
END:STANDARD
BEGIN:DAYLIGHT
TZOFFSETFROM:-0700
TZOFFSETTO:-0600
TZNAME:MDT
DTSTART:20250309T090000
END:DAYLIGHT
BEGIN:STANDARD
TZOFFSETFROM:-0600
TZOFFSETTO:-0700
TZNAME:MST
DTSTART:20251102T080000
END:STANDARD
BEGIN:DAYLIGHT
TZOFFSETFROM:-0700
TZOFFSETTO:-0600
TZNAME:MDT
DTSTART:20260308T090000
END:DAYLIGHT
BEGIN:STANDARD
TZOFFSETFROM:-0600
TZOFFSETTO:-0700
TZNAME:MST
DTSTART:20261101T080000
END:STANDARD
END:VTIMEZONE
BEGIN:VEVENT
DTSTART;TZID=America/Denver:20250504T110000
DTEND;TZID=America/Denver:20250504T110000
DTSTAMP:20260421T123950
CREATED:20250228T172957Z
LAST-MODIFIED:20250228T172957Z
UID:3563-1746356400-1746356400@ruthsdiner.com
SUMMARY:Maggie and Julie
DESCRIPTION:Music
URL:https://ruthsdiner.com/event/maggie-and-julie-98/
LOCATION:Patio
CATEGORIES:LUNCH
END:VEVENT
BEGIN:VEVENT
DTSTART;TZID=America/Denver:20250511T110000
DTEND;TZID=America/Denver:20250511T110000
DTSTAMP:20260421T123950
CREATED:20250228T172958Z
LAST-MODIFIED:20250228T172958Z
UID:3564-1746961200-1746961200@ruthsdiner.com
SUMMARY:Maggie and Julie
DESCRIPTION:Music
URL:https://ruthsdiner.com/event/maggie-and-julie-99/
LOCATION:Patio
CATEGORIES:LUNCH
END:VEVENT
BEGIN:VEVENT
DTSTART;TZID=America/Denver:20250518T110000
DTEND;TZID=America/Denver:20250518T110000
DTSTAMP:20260421T123950
CREATED:20250228T172958Z
LAST-MODIFIED:20250228T172958Z
UID:3565-1747566000-1747566000@ruthsdiner.com
SUMMARY:Maggie and Julie
DESCRIPTION:Music
URL:https://ruthsdiner.com/event/maggie-and-julie-100/
LOCATION:Patio
CATEGORIES:LUNCH
END:VEVENT
BEGIN:VEVENT
DTSTART;TZID=America/Denver:20250525T110000
DTEND;TZID=America/Denver:20250525T110000
DTSTAMP:20260421T123950
CREATED:20250228T173014Z
LAST-MODIFIED:20250228T173014Z
UID:3569-1748170800-1748170800@ruthsdiner.com
SUMMARY:Maggie and Julie
DESCRIPTION:Music
URL:https://ruthsdiner.com/event/maggie-and-julie-102/
LOCATION:Patio
CATEGORIES:LUNCH
END:VEVENT
BEGIN:VEVENT
DTSTART;TZID=America/Denver:20250526T110000
DTEND;TZID=America/Denver:20250526T110000
DTSTAMP:20260421T123950
CREATED:20250228T173014Z
LAST-MODIFIED:20250228T173014Z
UID:3570-1748257200-1748257200@ruthsdiner.com
SUMMARY:Maggie and Julie
DESCRIPTION:Music
URL:https://ruthsdiner.com/event/maggie-and-julie-103/
LOCATION:Patio
CATEGORIES:LUNCH
END:VEVENT
END:VCALENDAR