BEGIN:VCALENDAR
VERSION:2.0
PRODID:-//Ruth's Diner - ECPv6.15.15//NONSGML v1.0//EN
CALSCALE:GREGORIAN
METHOD:PUBLISH
X-ORIGINAL-URL:https://ruthsdiner.com
X-WR-CALDESC:Events for Ruth's Diner
REFRESH-INTERVAL;VALUE=DURATION:PT1H
X-Robots-Tag:noindex
X-PUBLISHED-TTL:PT1H
BEGIN:VTIMEZONE
TZID:America/Denver
BEGIN:DAYLIGHT
TZOFFSETFROM:-0700
TZOFFSETTO:-0600
TZNAME:MDT
DTSTART:20240310T090000
END:DAYLIGHT
BEGIN:STANDARD
TZOFFSETFROM:-0600
TZOFFSETTO:-0700
TZNAME:MST
DTSTART:20241103T080000
END:STANDARD
BEGIN:DAYLIGHT
TZOFFSETFROM:-0700
TZOFFSETTO:-0600
TZNAME:MDT
DTSTART:20250309T090000
END:DAYLIGHT
BEGIN:STANDARD
TZOFFSETFROM:-0600
TZOFFSETTO:-0700
TZNAME:MST
DTSTART:20251102T080000
END:STANDARD
BEGIN:DAYLIGHT
TZOFFSETFROM:-0700
TZOFFSETTO:-0600
TZNAME:MDT
DTSTART:20260308T090000
END:DAYLIGHT
BEGIN:STANDARD
TZOFFSETFROM:-0600
TZOFFSETTO:-0700
TZNAME:MST
DTSTART:20261101T080000
END:STANDARD
END:VTIMEZONE
BEGIN:VEVENT
DTSTART;TZID=America/Denver:20250713T110000
DTEND;TZID=America/Denver:20250713T110000
DTSTAMP:20260421T094247
CREATED:20250228T173159Z
LAST-MODIFIED:20250228T173159Z
UID:3606-1752404400-1752404400@ruthsdiner.com
SUMMARY:Maggie and Julie
DESCRIPTION:Music
URL:https://ruthsdiner.com/event/maggie-and-julie-115/
LOCATION:Patio
CATEGORIES:LUNCH
END:VEVENT
BEGIN:VEVENT
DTSTART;TZID=America/Denver:20250720T110000
DTEND;TZID=America/Denver:20250720T110000
DTSTAMP:20260421T094247
CREATED:20250228T173215Z
LAST-MODIFIED:20250228T173215Z
UID:3611-1753009200-1753009200@ruthsdiner.com
SUMMARY:Maggie and Julie
DESCRIPTION:Music
URL:https://ruthsdiner.com/event/maggie-and-julie-117/
LOCATION:Patio
CATEGORIES:LUNCH
END:VEVENT
BEGIN:VEVENT
DTSTART;TZID=America/Denver:20250724T110000
DTEND;TZID=America/Denver:20250724T110000
DTSTAMP:20260421T094247
CREATED:20250228T173216Z
LAST-MODIFIED:20250228T173216Z
UID:3613-1753354800-1753354800@ruthsdiner.com
SUMMARY:Maggie and Julie
DESCRIPTION:Music
URL:https://ruthsdiner.com/event/maggie-and-julie-118/
LOCATION:Patio
CATEGORIES:LUNCH
END:VEVENT
BEGIN:VEVENT
DTSTART;TZID=America/Denver:20250727T110000
DTEND;TZID=America/Denver:20250727T110000
DTSTAMP:20260421T094247
CREATED:20250228T173348Z
LAST-MODIFIED:20250228T173348Z
UID:3617-1753614000-1753614000@ruthsdiner.com
SUMMARY:Maggie and Julie
DESCRIPTION:Music
URL:https://ruthsdiner.com/event/maggie-and-julie-120/
LOCATION:Patio
CATEGORIES:LUNCH
END:VEVENT
END:VCALENDAR