BEGIN:VCALENDAR
VERSION:2.0
PRODID:-//Ruth's Diner - ECPv6.15.15//NONSGML v1.0//EN
CALSCALE:GREGORIAN
METHOD:PUBLISH
X-WR-CALNAME:Ruth's Diner
X-ORIGINAL-URL:https://ruthsdiner.com
X-WR-CALDESC:Events for Ruth's Diner
REFRESH-INTERVAL;VALUE=DURATION:PT1H
X-Robots-Tag:noindex
X-PUBLISHED-TTL:PT1H
BEGIN:VTIMEZONE
TZID:America/Denver
BEGIN:DAYLIGHT
TZOFFSETFROM:-0700
TZOFFSETTO:-0600
TZNAME:MDT
DTSTART:20240310T090000
END:DAYLIGHT
BEGIN:STANDARD
TZOFFSETFROM:-0600
TZOFFSETTO:-0700
TZNAME:MST
DTSTART:20241103T080000
END:STANDARD
BEGIN:DAYLIGHT
TZOFFSETFROM:-0700
TZOFFSETTO:-0600
TZNAME:MDT
DTSTART:20250309T090000
END:DAYLIGHT
BEGIN:STANDARD
TZOFFSETFROM:-0600
TZOFFSETTO:-0700
TZNAME:MST
DTSTART:20251102T080000
END:STANDARD
BEGIN:DAYLIGHT
TZOFFSETFROM:-0700
TZOFFSETTO:-0600
TZNAME:MDT
DTSTART:20260308T090000
END:DAYLIGHT
BEGIN:STANDARD
TZOFFSETFROM:-0600
TZOFFSETTO:-0700
TZNAME:MST
DTSTART:20261101T080000
END:STANDARD
BEGIN:DAYLIGHT
TZOFFSETFROM:-0700
TZOFFSETTO:-0600
TZNAME:MDT
DTSTART:20270314T090000
END:DAYLIGHT
BEGIN:STANDARD
TZOFFSETFROM:-0600
TZOFFSETTO:-0700
TZNAME:MST
DTSTART:20271107T080000
END:STANDARD
END:VTIMEZONE
BEGIN:VEVENT
DTSTART;TZID=America/Denver:20260412T110000
DTEND;TZID=America/Denver:20260412T140000
DTSTAMP:20260421T020938
CREATED:20260408T225952Z
LAST-MODIFIED:20260408T225952Z
UID:4322-1775991600-1776002400@ruthsdiner.com
SUMMARY:Maggie and Julie
DESCRIPTION:
URL:https://ruthsdiner.com/event/maggie-and-julie-130/
CATEGORIES:LUNCH
END:VEVENT
BEGIN:VEVENT
DTSTART;TZID=America/Denver:20250901T110000
DTEND;TZID=America/Denver:20250901T110000
DTSTAMP:20260421T020938
CREATED:20250228T174023Z
LAST-MODIFIED:20250228T174023Z
UID:3643-1756724400-1756724400@ruthsdiner.com
SUMMARY:Maggie and Julie
DESCRIPTION:Music
URL:https://ruthsdiner.com/event/maggie-and-julie-129/
LOCATION:Patio
CATEGORIES:LUNCH
END:VEVENT
BEGIN:VEVENT
DTSTART;TZID=America/Denver:20250831T110000
DTEND;TZID=America/Denver:20250831T110000
DTSTAMP:20260421T020938
CREATED:20250228T174022Z
LAST-MODIFIED:20250228T174022Z
UID:3642-1756638000-1756638000@ruthsdiner.com
SUMMARY:Maggie and Julie
DESCRIPTION:Music
URL:https://ruthsdiner.com/event/maggie-and-julie-128/
LOCATION:Patio
CATEGORIES:LUNCH
END:VEVENT
BEGIN:VEVENT
DTSTART;TZID=America/Denver:20250824T110000
DTEND;TZID=America/Denver:20250824T110000
DTSTAMP:20260421T020938
CREATED:20250228T173821Z
LAST-MODIFIED:20250228T173821Z
UID:3637-1756033200-1756033200@ruthsdiner.com
SUMMARY:Maggie and Julie
DESCRIPTION:Music
URL:https://ruthsdiner.com/event/maggie-and-julie-126/
LOCATION:Patio
CATEGORIES:LUNCH
END:VEVENT
BEGIN:VEVENT
DTSTART;TZID=America/Denver:20250817T110000
DTEND;TZID=America/Denver:20250817T110000
DTSTAMP:20260421T020938
CREATED:20250228T173621Z
LAST-MODIFIED:20250228T173621Z
UID:3632-1755428400-1755428400@ruthsdiner.com
SUMMARY:Maggie and Julie
DESCRIPTION:Music
URL:https://ruthsdiner.com/event/maggie-and-julie-124/
LOCATION:Patio
CATEGORIES:LUNCH
END:VEVENT
BEGIN:VEVENT
DTSTART;TZID=America/Denver:20250810T110000
DTEND;TZID=America/Denver:20250810T110000
DTSTAMP:20260421T020938
CREATED:20250228T173419Z
LAST-MODIFIED:20250228T173419Z
UID:3627-1754823600-1754823600@ruthsdiner.com
SUMMARY:Trenton McKean
DESCRIPTION:Music
URL:https://ruthsdiner.com/event/trenton-mckean-5/
LOCATION:Patio
CATEGORIES:LUNCH
END:VEVENT
BEGIN:VEVENT
DTSTART;TZID=America/Denver:20250803T110000
DTEND;TZID=America/Denver:20250803T110000
DTSTAMP:20260421T020938
CREATED:20250228T173404Z
LAST-MODIFIED:20250228T173404Z
UID:3622-1754218800-1754218800@ruthsdiner.com
SUMMARY:Maggie and Julie
DESCRIPTION:Music
URL:https://ruthsdiner.com/event/maggie-and-julie-122/
LOCATION:Patio
CATEGORIES:LUNCH
END:VEVENT
BEGIN:VEVENT
DTSTART;TZID=America/Denver:20250727T110000
DTEND;TZID=America/Denver:20250727T110000
DTSTAMP:20260421T020938
CREATED:20250228T173348Z
LAST-MODIFIED:20250228T173348Z
UID:3617-1753614000-1753614000@ruthsdiner.com
SUMMARY:Maggie and Julie
DESCRIPTION:Music
URL:https://ruthsdiner.com/event/maggie-and-julie-120/
LOCATION:Patio
CATEGORIES:LUNCH
END:VEVENT
BEGIN:VEVENT
DTSTART;TZID=America/Denver:20250724T110000
DTEND;TZID=America/Denver:20250724T110000
DTSTAMP:20260421T020938
CREATED:20250228T173216Z
LAST-MODIFIED:20250228T173216Z
UID:3613-1753354800-1753354800@ruthsdiner.com
SUMMARY:Maggie and Julie
DESCRIPTION:Music
URL:https://ruthsdiner.com/event/maggie-and-julie-118/
LOCATION:Patio
CATEGORIES:LUNCH
END:VEVENT
BEGIN:VEVENT
DTSTART;TZID=America/Denver:20250720T110000
DTEND;TZID=America/Denver:20250720T110000
DTSTAMP:20260421T020938
CREATED:20250228T173215Z
LAST-MODIFIED:20250228T173215Z
UID:3611-1753009200-1753009200@ruthsdiner.com
SUMMARY:Maggie and Julie
DESCRIPTION:Music
URL:https://ruthsdiner.com/event/maggie-and-julie-117/
LOCATION:Patio
CATEGORIES:LUNCH
END:VEVENT
BEGIN:VEVENT
DTSTART;TZID=America/Denver:20250713T110000
DTEND;TZID=America/Denver:20250713T110000
DTSTAMP:20260421T020938
CREATED:20250228T173159Z
LAST-MODIFIED:20250228T173159Z
UID:3606-1752404400-1752404400@ruthsdiner.com
SUMMARY:Maggie and Julie
DESCRIPTION:Music
URL:https://ruthsdiner.com/event/maggie-and-julie-115/
LOCATION:Patio
CATEGORIES:LUNCH
END:VEVENT
BEGIN:VEVENT
DTSTART;TZID=America/Denver:20250630T110000
DTEND;TZID=America/Denver:20250630T110000
DTSTAMP:20260421T020938
CREATED:20250228T173129Z
LAST-MODIFIED:20250228T173129Z
UID:3596-1751281200-1751281200@ruthsdiner.com
SUMMARY:Ian McIver
DESCRIPTION:Music
URL:https://ruthsdiner.com/event/ian-mciver-30/
LOCATION:Patio
CATEGORIES:LUNCH
END:VEVENT
BEGIN:VEVENT
DTSTART;TZID=America/Denver:20250629T110000
DTEND;TZID=America/Denver:20250629T110000
DTSTAMP:20260421T020938
CREATED:20250228T173129Z
LAST-MODIFIED:20250228T173129Z
UID:3595-1751194800-1751194800@ruthsdiner.com
SUMMARY:Maggie and Julie
DESCRIPTION:Music
URL:https://ruthsdiner.com/event/maggie-and-julie-111/
LOCATION:Patio
CATEGORIES:LUNCH
END:VEVENT
BEGIN:VEVENT
DTSTART;TZID=America/Denver:20250622T110000
DTEND;TZID=America/Denver:20250622T110000
DTSTAMP:20260421T020938
CREATED:20250228T173114Z
LAST-MODIFIED:20250228T173114Z
UID:3590-1750590000-1750590000@ruthsdiner.com
SUMMARY:Trenton McKean
DESCRIPTION:Music
URL:https://ruthsdiner.com/event/trenton-mckean/
LOCATION:Patio
CATEGORIES:LUNCH
END:VEVENT
BEGIN:VEVENT
DTSTART;TZID=America/Denver:20250615T110000
DTEND;TZID=America/Denver:20250615T110000
DTSTAMP:20260421T020938
CREATED:20250228T173059Z
LAST-MODIFIED:20250228T173059Z
UID:3585-1749985200-1749985200@ruthsdiner.com
SUMMARY:Maggie and Julie
DESCRIPTION:Music
URL:https://ruthsdiner.com/event/maggie-and-julie-109/
LOCATION:Patio
CATEGORIES:LUNCH
END:VEVENT
BEGIN:VEVENT
DTSTART;TZID=America/Denver:20250608T110000
DTEND;TZID=America/Denver:20250608T110000
DTSTAMP:20260421T020938
CREATED:20250228T173044Z
LAST-MODIFIED:20250228T173044Z
UID:3580-1749380400-1749380400@ruthsdiner.com
SUMMARY:Maggie and Julie
DESCRIPTION:Music
URL:https://ruthsdiner.com/event/maggie-and-julie-107/
LOCATION:Patio
CATEGORIES:LUNCH
END:VEVENT
BEGIN:VEVENT
DTSTART;TZID=America/Denver:20250601T110000
DTEND;TZID=America/Denver:20250601T110000
DTSTAMP:20260421T020938
CREATED:20250228T173029Z
LAST-MODIFIED:20250228T173029Z
UID:3575-1748775600-1748775600@ruthsdiner.com
SUMMARY:Maggie and Julie
DESCRIPTION:Music
URL:https://ruthsdiner.com/event/maggie-and-julie-105/
LOCATION:Patio
CATEGORIES:LUNCH
END:VEVENT
BEGIN:VEVENT
DTSTART;TZID=America/Denver:20250526T110000
DTEND;TZID=America/Denver:20250526T110000
DTSTAMP:20260421T020938
CREATED:20250228T173014Z
LAST-MODIFIED:20250228T173014Z
UID:3570-1748257200-1748257200@ruthsdiner.com
SUMMARY:Maggie and Julie
DESCRIPTION:Music
URL:https://ruthsdiner.com/event/maggie-and-julie-103/
LOCATION:Patio
CATEGORIES:LUNCH
END:VEVENT
BEGIN:VEVENT
DTSTART;TZID=America/Denver:20250525T110000
DTEND;TZID=America/Denver:20250525T110000
DTSTAMP:20260421T020938
CREATED:20250228T173014Z
LAST-MODIFIED:20250228T173014Z
UID:3569-1748170800-1748170800@ruthsdiner.com
SUMMARY:Maggie and Julie
DESCRIPTION:Music
URL:https://ruthsdiner.com/event/maggie-and-julie-102/
LOCATION:Patio
CATEGORIES:LUNCH
END:VEVENT
BEGIN:VEVENT
DTSTART;TZID=America/Denver:20250518T110000
DTEND;TZID=America/Denver:20250518T110000
DTSTAMP:20260421T020938
CREATED:20250228T172958Z
LAST-MODIFIED:20250228T172958Z
UID:3565-1747566000-1747566000@ruthsdiner.com
SUMMARY:Maggie and Julie
DESCRIPTION:Music
URL:https://ruthsdiner.com/event/maggie-and-julie-100/
LOCATION:Patio
CATEGORIES:LUNCH
END:VEVENT
BEGIN:VEVENT
DTSTART;TZID=America/Denver:20250511T110000
DTEND;TZID=America/Denver:20250511T110000
DTSTAMP:20260421T020938
CREATED:20250228T172958Z
LAST-MODIFIED:20250228T172958Z
UID:3564-1746961200-1746961200@ruthsdiner.com
SUMMARY:Maggie and Julie
DESCRIPTION:Music
URL:https://ruthsdiner.com/event/maggie-and-julie-99/
LOCATION:Patio
CATEGORIES:LUNCH
END:VEVENT
BEGIN:VEVENT
DTSTART;TZID=America/Denver:20250504T110000
DTEND;TZID=America/Denver:20250504T110000
DTSTAMP:20260421T020938
CREATED:20250228T172957Z
LAST-MODIFIED:20250228T172957Z
UID:3563-1746356400-1746356400@ruthsdiner.com
SUMMARY:Maggie and Julie
DESCRIPTION:Music
URL:https://ruthsdiner.com/event/maggie-and-julie-98/
LOCATION:Patio
CATEGORIES:LUNCH
END:VEVENT
BEGIN:VEVENT
DTSTART;TZID=America/Denver:20250427T110000
DTEND;TZID=America/Denver:20250427T110000
DTSTAMP:20260421T020938
CREATED:20250228T172957Z
LAST-MODIFIED:20250228T172957Z
UID:3562-1745751600-1745751600@ruthsdiner.com
SUMMARY:Maggie and Julie
DESCRIPTION:Music
URL:https://ruthsdiner.com/event/maggie-and-julie-97/
LOCATION:Patio
CATEGORIES:LUNCH
END:VEVENT
BEGIN:VEVENT
DTSTART;TZID=America/Denver:20250420T110000
DTEND;TZID=America/Denver:20250420T110000
DTSTAMP:20260421T020938
CREATED:20250228T172957Z
LAST-MODIFIED:20250228T172957Z
UID:3561-1745146800-1745146800@ruthsdiner.com
SUMMARY:Maggie and Julie
DESCRIPTION:Music
URL:https://ruthsdiner.com/event/maggie-and-julie-96/
LOCATION:Patio
CATEGORIES:LUNCH
END:VEVENT
END:VCALENDAR