BEGIN:VCALENDAR
VERSION:2.0
PRODID:-//Ruth&#039;s Diner - ECPv6.15.20//NONSGML v1.0//EN
CALSCALE:GREGORIAN
METHOD:PUBLISH
X-WR-CALNAME:Ruth&#039;s Diner
X-ORIGINAL-URL:https://ruthsdiner.com
X-WR-CALDESC:Events for Ruth&#039;s Diner
REFRESH-INTERVAL;VALUE=DURATION:PT1H
X-Robots-Tag:noindex
X-PUBLISHED-TTL:PT1H
BEGIN:VTIMEZONE
TZID:America/Denver
BEGIN:DAYLIGHT
TZOFFSETFROM:-0700
TZOFFSETTO:-0600
TZNAME:MDT
DTSTART:19690427T090000
END:DAYLIGHT
BEGIN:STANDARD
TZOFFSETFROM:-0600
TZOFFSETTO:-0700
TZNAME:MST
DTSTART:19691026T080000
END:STANDARD
BEGIN:DAYLIGHT
TZOFFSETFROM:-0700
TZOFFSETTO:-0600
TZNAME:MDT
DTSTART:19700426T090000
END:DAYLIGHT
BEGIN:STANDARD
TZOFFSETFROM:-0600
TZOFFSETTO:-0700
TZNAME:MST
DTSTART:19701025T080000
END:STANDARD
BEGIN:DAYLIGHT
TZOFFSETFROM:-0700
TZOFFSETTO:-0600
TZNAME:MDT
DTSTART:19710425T090000
END:DAYLIGHT
BEGIN:STANDARD
TZOFFSETFROM:-0600
TZOFFSETTO:-0700
TZNAME:MST
DTSTART:19711031T080000
END:STANDARD
BEGIN:DAYLIGHT
TZOFFSETFROM:-0700
TZOFFSETTO:-0600
TZNAME:MDT
DTSTART:19720430T090000
END:DAYLIGHT
BEGIN:STANDARD
TZOFFSETFROM:-0600
TZOFFSETTO:-0700
TZNAME:MST
DTSTART:19721029T080000
END:STANDARD
BEGIN:DAYLIGHT
TZOFFSETFROM:-0700
TZOFFSETTO:-0600
TZNAME:MDT
DTSTART:19730429T090000
END:DAYLIGHT
BEGIN:STANDARD
TZOFFSETFROM:-0600
TZOFFSETTO:-0700
TZNAME:MST
DTSTART:19731028T080000
END:STANDARD
BEGIN:DAYLIGHT
TZOFFSETFROM:-0700
TZOFFSETTO:-0600
TZNAME:MDT
DTSTART:19740106T090000
END:DAYLIGHT
BEGIN:STANDARD
TZOFFSETFROM:-0600
TZOFFSETTO:-0700
TZNAME:MST
DTSTART:19741027T080000
END:STANDARD
BEGIN:DAYLIGHT
TZOFFSETFROM:-0700
TZOFFSETTO:-0600
TZNAME:MDT
DTSTART:19750223T090000
END:DAYLIGHT
BEGIN:STANDARD
TZOFFSETFROM:-0600
TZOFFSETTO:-0700
TZNAME:MST
DTSTART:19751026T080000
END:STANDARD
BEGIN:DAYLIGHT
TZOFFSETFROM:-0700
TZOFFSETTO:-0600
TZNAME:MDT
DTSTART:19760425T090000
END:DAYLIGHT
BEGIN:STANDARD
TZOFFSETFROM:-0600
TZOFFSETTO:-0700
TZNAME:MST
DTSTART:19761031T080000
END:STANDARD
BEGIN:DAYLIGHT
TZOFFSETFROM:-0700
TZOFFSETTO:-0600
TZNAME:MDT
DTSTART:19770424T090000
END:DAYLIGHT
BEGIN:STANDARD
TZOFFSETFROM:-0600
TZOFFSETTO:-0700
TZNAME:MST
DTSTART:19771030T080000
END:STANDARD
BEGIN:DAYLIGHT
TZOFFSETFROM:-0700
TZOFFSETTO:-0600
TZNAME:MDT
DTSTART:19780430T090000
END:DAYLIGHT
BEGIN:STANDARD
TZOFFSETFROM:-0600
TZOFFSETTO:-0700
TZNAME:MST
DTSTART:19781029T080000
END:STANDARD
BEGIN:DAYLIGHT
TZOFFSETFROM:-0700
TZOFFSETTO:-0600
TZNAME:MDT
DTSTART:19790429T090000
END:DAYLIGHT
BEGIN:STANDARD
TZOFFSETFROM:-0600
TZOFFSETTO:-0700
TZNAME:MST
DTSTART:19791028T080000
END:STANDARD
BEGIN:DAYLIGHT
TZOFFSETFROM:-0700
TZOFFSETTO:-0600
TZNAME:MDT
DTSTART:19800427T090000
END:DAYLIGHT
BEGIN:STANDARD
TZOFFSETFROM:-0600
TZOFFSETTO:-0700
TZNAME:MST
DTSTART:19801026T080000
END:STANDARD
BEGIN:DAYLIGHT
TZOFFSETFROM:-0700
TZOFFSETTO:-0600
TZNAME:MDT
DTSTART:19810426T090000
END:DAYLIGHT
BEGIN:STANDARD
TZOFFSETFROM:-0600
TZOFFSETTO:-0700
TZNAME:MST
DTSTART:19811025T080000
END:STANDARD
BEGIN:DAYLIGHT
TZOFFSETFROM:-0700
TZOFFSETTO:-0600
TZNAME:MDT
DTSTART:19820425T090000
END:DAYLIGHT
BEGIN:STANDARD
TZOFFSETFROM:-0600
TZOFFSETTO:-0700
TZNAME:MST
DTSTART:19821031T080000
END:STANDARD
BEGIN:DAYLIGHT
TZOFFSETFROM:-0700
TZOFFSETTO:-0600
TZNAME:MDT
DTSTART:19830424T090000
END:DAYLIGHT
BEGIN:STANDARD
TZOFFSETFROM:-0600
TZOFFSETTO:-0700
TZNAME:MST
DTSTART:19831030T080000
END:STANDARD
BEGIN:DAYLIGHT
TZOFFSETFROM:-0700
TZOFFSETTO:-0600
TZNAME:MDT
DTSTART:19840429T090000
END:DAYLIGHT
BEGIN:STANDARD
TZOFFSETFROM:-0600
TZOFFSETTO:-0700
TZNAME:MST
DTSTART:19841028T080000
END:STANDARD
BEGIN:DAYLIGHT
TZOFFSETFROM:-0700
TZOFFSETTO:-0600
TZNAME:MDT
DTSTART:19850428T090000
END:DAYLIGHT
BEGIN:STANDARD
TZOFFSETFROM:-0600
TZOFFSETTO:-0700
TZNAME:MST
DTSTART:19851027T080000
END:STANDARD
BEGIN:DAYLIGHT
TZOFFSETFROM:-0700
TZOFFSETTO:-0600
TZNAME:MDT
DTSTART:19860427T090000
END:DAYLIGHT
BEGIN:STANDARD
TZOFFSETFROM:-0600
TZOFFSETTO:-0700
TZNAME:MST
DTSTART:19861026T080000
END:STANDARD
BEGIN:DAYLIGHT
TZOFFSETFROM:-0700
TZOFFSETTO:-0600
TZNAME:MDT
DTSTART:19870405T090000
END:DAYLIGHT
BEGIN:STANDARD
TZOFFSETFROM:-0600
TZOFFSETTO:-0700
TZNAME:MST
DTSTART:19871025T080000
END:STANDARD
BEGIN:DAYLIGHT
TZOFFSETFROM:-0700
TZOFFSETTO:-0600
TZNAME:MDT
DTSTART:19880403T090000
END:DAYLIGHT
BEGIN:STANDARD
TZOFFSETFROM:-0600
TZOFFSETTO:-0700
TZNAME:MST
DTSTART:19881030T080000
END:STANDARD
BEGIN:DAYLIGHT
TZOFFSETFROM:-0700
TZOFFSETTO:-0600
TZNAME:MDT
DTSTART:19890402T090000
END:DAYLIGHT
BEGIN:STANDARD
TZOFFSETFROM:-0600
TZOFFSETTO:-0700
TZNAME:MST
DTSTART:19891029T080000
END:STANDARD
BEGIN:DAYLIGHT
TZOFFSETFROM:-0700
TZOFFSETTO:-0600
TZNAME:MDT
DTSTART:19900401T090000
END:DAYLIGHT
BEGIN:STANDARD
TZOFFSETFROM:-0600
TZOFFSETTO:-0700
TZNAME:MST
DTSTART:19901028T080000
END:STANDARD
BEGIN:DAYLIGHT
TZOFFSETFROM:-0700
TZOFFSETTO:-0600
TZNAME:MDT
DTSTART:19910407T090000
END:DAYLIGHT
BEGIN:STANDARD
TZOFFSETFROM:-0600
TZOFFSETTO:-0700
TZNAME:MST
DTSTART:19911027T080000
END:STANDARD
BEGIN:DAYLIGHT
TZOFFSETFROM:-0700
TZOFFSETTO:-0600
TZNAME:MDT
DTSTART:19920405T090000
END:DAYLIGHT
BEGIN:STANDARD
TZOFFSETFROM:-0600
TZOFFSETTO:-0700
TZNAME:MST
DTSTART:19921025T080000
END:STANDARD
BEGIN:DAYLIGHT
TZOFFSETFROM:-0700
TZOFFSETTO:-0600
TZNAME:MDT
DTSTART:19930404T090000
END:DAYLIGHT
BEGIN:STANDARD
TZOFFSETFROM:-0600
TZOFFSETTO:-0700
TZNAME:MST
DTSTART:19931031T080000
END:STANDARD
BEGIN:DAYLIGHT
TZOFFSETFROM:-0700
TZOFFSETTO:-0600
TZNAME:MDT
DTSTART:19940403T090000
END:DAYLIGHT
BEGIN:STANDARD
TZOFFSETFROM:-0600
TZOFFSETTO:-0700
TZNAME:MST
DTSTART:19941030T080000
END:STANDARD
BEGIN:DAYLIGHT
TZOFFSETFROM:-0700
TZOFFSETTO:-0600
TZNAME:MDT
DTSTART:19950402T090000
END:DAYLIGHT
BEGIN:STANDARD
TZOFFSETFROM:-0600
TZOFFSETTO:-0700
TZNAME:MST
DTSTART:19951029T080000
END:STANDARD
BEGIN:DAYLIGHT
TZOFFSETFROM:-0700
TZOFFSETTO:-0600
TZNAME:MDT
DTSTART:19960407T090000
END:DAYLIGHT
BEGIN:STANDARD
TZOFFSETFROM:-0600
TZOFFSETTO:-0700
TZNAME:MST
DTSTART:19961027T080000
END:STANDARD
BEGIN:DAYLIGHT
TZOFFSETFROM:-0700
TZOFFSETTO:-0600
TZNAME:MDT
DTSTART:19970406T090000
END:DAYLIGHT
BEGIN:STANDARD
TZOFFSETFROM:-0600
TZOFFSETTO:-0700
TZNAME:MST
DTSTART:19971026T080000
END:STANDARD
BEGIN:DAYLIGHT
TZOFFSETFROM:-0700
TZOFFSETTO:-0600
TZNAME:MDT
DTSTART:19980405T090000
END:DAYLIGHT
BEGIN:STANDARD
TZOFFSETFROM:-0600
TZOFFSETTO:-0700
TZNAME:MST
DTSTART:19981025T080000
END:STANDARD
BEGIN:DAYLIGHT
TZOFFSETFROM:-0700
TZOFFSETTO:-0600
TZNAME:MDT
DTSTART:19990404T090000
END:DAYLIGHT
BEGIN:STANDARD
TZOFFSETFROM:-0600
TZOFFSETTO:-0700
TZNAME:MST
DTSTART:19991031T080000
END:STANDARD
BEGIN:DAYLIGHT
TZOFFSETFROM:-0700
TZOFFSETTO:-0600
TZNAME:MDT
DTSTART:20000402T090000
END:DAYLIGHT
BEGIN:STANDARD
TZOFFSETFROM:-0600
TZOFFSETTO:-0700
TZNAME:MST
DTSTART:20001029T080000
END:STANDARD
BEGIN:DAYLIGHT
TZOFFSETFROM:-0700
TZOFFSETTO:-0600
TZNAME:MDT
DTSTART:20010401T090000
END:DAYLIGHT
BEGIN:STANDARD
TZOFFSETFROM:-0600
TZOFFSETTO:-0700
TZNAME:MST
DTSTART:20011028T080000
END:STANDARD
BEGIN:DAYLIGHT
TZOFFSETFROM:-0700
TZOFFSETTO:-0600
TZNAME:MDT
DTSTART:20020407T090000
END:DAYLIGHT
BEGIN:STANDARD
TZOFFSETFROM:-0600
TZOFFSETTO:-0700
TZNAME:MST
DTSTART:20021027T080000
END:STANDARD
BEGIN:DAYLIGHT
TZOFFSETFROM:-0700
TZOFFSETTO:-0600
TZNAME:MDT
DTSTART:20030406T090000
END:DAYLIGHT
BEGIN:STANDARD
TZOFFSETFROM:-0600
TZOFFSETTO:-0700
TZNAME:MST
DTSTART:20031026T080000
END:STANDARD
BEGIN:DAYLIGHT
TZOFFSETFROM:-0700
TZOFFSETTO:-0600
TZNAME:MDT
DTSTART:20040404T090000
END:DAYLIGHT
BEGIN:STANDARD
TZOFFSETFROM:-0600
TZOFFSETTO:-0700
TZNAME:MST
DTSTART:20041031T080000
END:STANDARD
BEGIN:DAYLIGHT
TZOFFSETFROM:-0700
TZOFFSETTO:-0600
TZNAME:MDT
DTSTART:20050403T090000
END:DAYLIGHT
BEGIN:STANDARD
TZOFFSETFROM:-0600
TZOFFSETTO:-0700
TZNAME:MST
DTSTART:20051030T080000
END:STANDARD
BEGIN:DAYLIGHT
TZOFFSETFROM:-0700
TZOFFSETTO:-0600
TZNAME:MDT
DTSTART:20060402T090000
END:DAYLIGHT
BEGIN:STANDARD
TZOFFSETFROM:-0600
TZOFFSETTO:-0700
TZNAME:MST
DTSTART:20061029T080000
END:STANDARD
BEGIN:DAYLIGHT
TZOFFSETFROM:-0700
TZOFFSETTO:-0600
TZNAME:MDT
DTSTART:20070311T090000
END:DAYLIGHT
BEGIN:STANDARD
TZOFFSETFROM:-0600
TZOFFSETTO:-0700
TZNAME:MST
DTSTART:20071104T080000
END:STANDARD
BEGIN:DAYLIGHT
TZOFFSETFROM:-0700
TZOFFSETTO:-0600
TZNAME:MDT
DTSTART:20080309T090000
END:DAYLIGHT
BEGIN:STANDARD
TZOFFSETFROM:-0600
TZOFFSETTO:-0700
TZNAME:MST
DTSTART:20081102T080000
END:STANDARD
BEGIN:DAYLIGHT
TZOFFSETFROM:-0700
TZOFFSETTO:-0600
TZNAME:MDT
DTSTART:20090308T090000
END:DAYLIGHT
BEGIN:STANDARD
TZOFFSETFROM:-0600
TZOFFSETTO:-0700
TZNAME:MST
DTSTART:20091101T080000
END:STANDARD
BEGIN:DAYLIGHT
TZOFFSETFROM:-0700
TZOFFSETTO:-0600
TZNAME:MDT
DTSTART:20100314T090000
END:DAYLIGHT
BEGIN:STANDARD
TZOFFSETFROM:-0600
TZOFFSETTO:-0700
TZNAME:MST
DTSTART:20101107T080000
END:STANDARD
BEGIN:DAYLIGHT
TZOFFSETFROM:-0700
TZOFFSETTO:-0600
TZNAME:MDT
DTSTART:20110313T090000
END:DAYLIGHT
BEGIN:STANDARD
TZOFFSETFROM:-0600
TZOFFSETTO:-0700
TZNAME:MST
DTSTART:20111106T080000
END:STANDARD
BEGIN:DAYLIGHT
TZOFFSETFROM:-0700
TZOFFSETTO:-0600
TZNAME:MDT
DTSTART:20120311T090000
END:DAYLIGHT
BEGIN:STANDARD
TZOFFSETFROM:-0600
TZOFFSETTO:-0700
TZNAME:MST
DTSTART:20121104T080000
END:STANDARD
BEGIN:DAYLIGHT
TZOFFSETFROM:-0700
TZOFFSETTO:-0600
TZNAME:MDT
DTSTART:20130310T090000
END:DAYLIGHT
BEGIN:STANDARD
TZOFFSETFROM:-0600
TZOFFSETTO:-0700
TZNAME:MST
DTSTART:20131103T080000
END:STANDARD
BEGIN:DAYLIGHT
TZOFFSETFROM:-0700
TZOFFSETTO:-0600
TZNAME:MDT
DTSTART:20140309T090000
END:DAYLIGHT
BEGIN:STANDARD
TZOFFSETFROM:-0600
TZOFFSETTO:-0700
TZNAME:MST
DTSTART:20141102T080000
END:STANDARD
BEGIN:DAYLIGHT
TZOFFSETFROM:-0700
TZOFFSETTO:-0600
TZNAME:MDT
DTSTART:20150308T090000
END:DAYLIGHT
BEGIN:STANDARD
TZOFFSETFROM:-0600
TZOFFSETTO:-0700
TZNAME:MST
DTSTART:20151101T080000
END:STANDARD
BEGIN:DAYLIGHT
TZOFFSETFROM:-0700
TZOFFSETTO:-0600
TZNAME:MDT
DTSTART:20160313T090000
END:DAYLIGHT
BEGIN:STANDARD
TZOFFSETFROM:-0600
TZOFFSETTO:-0700
TZNAME:MST
DTSTART:20161106T080000
END:STANDARD
BEGIN:DAYLIGHT
TZOFFSETFROM:-0700
TZOFFSETTO:-0600
TZNAME:MDT
DTSTART:20170312T090000
END:DAYLIGHT
BEGIN:STANDARD
TZOFFSETFROM:-0600
TZOFFSETTO:-0700
TZNAME:MST
DTSTART:20171105T080000
END:STANDARD
BEGIN:DAYLIGHT
TZOFFSETFROM:-0700
TZOFFSETTO:-0600
TZNAME:MDT
DTSTART:20180311T090000
END:DAYLIGHT
BEGIN:STANDARD
TZOFFSETFROM:-0600
TZOFFSETTO:-0700
TZNAME:MST
DTSTART:20181104T080000
END:STANDARD
BEGIN:DAYLIGHT
TZOFFSETFROM:-0700
TZOFFSETTO:-0600
TZNAME:MDT
DTSTART:20190310T090000
END:DAYLIGHT
BEGIN:STANDARD
TZOFFSETFROM:-0600
TZOFFSETTO:-0700
TZNAME:MST
DTSTART:20191103T080000
END:STANDARD
BEGIN:DAYLIGHT
TZOFFSETFROM:-0700
TZOFFSETTO:-0600
TZNAME:MDT
DTSTART:20200308T090000
END:DAYLIGHT
BEGIN:STANDARD
TZOFFSETFROM:-0600
TZOFFSETTO:-0700
TZNAME:MST
DTSTART:20201101T080000
END:STANDARD
BEGIN:DAYLIGHT
TZOFFSETFROM:-0700
TZOFFSETTO:-0600
TZNAME:MDT
DTSTART:20210314T090000
END:DAYLIGHT
BEGIN:STANDARD
TZOFFSETFROM:-0600
TZOFFSETTO:-0700
TZNAME:MST
DTSTART:20211107T080000
END:STANDARD
BEGIN:DAYLIGHT
TZOFFSETFROM:-0700
TZOFFSETTO:-0600
TZNAME:MDT
DTSTART:20220313T090000
END:DAYLIGHT
BEGIN:STANDARD
TZOFFSETFROM:-0600
TZOFFSETTO:-0700
TZNAME:MST
DTSTART:20221106T080000
END:STANDARD
BEGIN:DAYLIGHT
TZOFFSETFROM:-0700
TZOFFSETTO:-0600
TZNAME:MDT
DTSTART:20230312T090000
END:DAYLIGHT
BEGIN:STANDARD
TZOFFSETFROM:-0600
TZOFFSETTO:-0700
TZNAME:MST
DTSTART:20231105T080000
END:STANDARD
BEGIN:DAYLIGHT
TZOFFSETFROM:-0700
TZOFFSETTO:-0600
TZNAME:MDT
DTSTART:20240310T090000
END:DAYLIGHT
BEGIN:STANDARD
TZOFFSETFROM:-0600
TZOFFSETTO:-0700
TZNAME:MST
DTSTART:20241103T080000
END:STANDARD
BEGIN:DAYLIGHT
TZOFFSETFROM:-0700
TZOFFSETTO:-0600
TZNAME:MDT
DTSTART:20250309T090000
END:DAYLIGHT
BEGIN:STANDARD
TZOFFSETFROM:-0600
TZOFFSETTO:-0700
TZNAME:MST
DTSTART:20251102T080000
END:STANDARD
BEGIN:DAYLIGHT
TZOFFSETFROM:-0700
TZOFFSETTO:-0600
TZNAME:MDT
DTSTART:20260308T090000
END:DAYLIGHT
BEGIN:STANDARD
TZOFFSETFROM:-0600
TZOFFSETTO:-0700
TZNAME:MST
DTSTART:20261101T080000
END:STANDARD
END:VTIMEZONE
BEGIN:VEVENT
DTSTART;TZID=America/Denver:20250609T183000
DTEND;TZID=America/Denver:20250609T183000
DTSTAMP:20260423T074958
CREATED:20250228T173044Z
LAST-MODIFIED:20250228T173044Z
UID:3581-1749493800-1749493800@ruthsdiner.com
SUMMARY:Ian McIver
DESCRIPTION:Music
URL:https://ruthsdiner.com/event/ian-mciver-27/
LOCATION:Patio
CATEGORIES:DINNER
END:VEVENT
BEGIN:VEVENT
DTSTART;TZID=America/Denver:20250608T110000
DTEND;TZID=America/Denver:20250608T110000
DTSTAMP:20260423T074958
CREATED:20250228T173044Z
LAST-MODIFIED:20250228T173044Z
UID:3580-1749380400-1749380400@ruthsdiner.com
SUMMARY:Maggie and Julie
DESCRIPTION:Music
URL:https://ruthsdiner.com/event/maggie-and-julie-107/
LOCATION:Patio
CATEGORIES:LUNCH
END:VEVENT
BEGIN:VEVENT
DTSTART;TZID=America/Denver:20250607T183000
DTEND;TZID=America/Denver:20250607T183000
DTSTAMP:20260423T074958
CREATED:20250228T173044Z
LAST-MODIFIED:20250228T173044Z
UID:3579-1749321000-1749321000@ruthsdiner.com
SUMMARY:Amy Lamarr
DESCRIPTION:Music
URL:https://ruthsdiner.com/event/amy-lamarr-30/
LOCATION:Patio
CATEGORIES:DINNER
END:VEVENT
BEGIN:VEVENT
DTSTART;TZID=America/Denver:20250606T183000
DTEND;TZID=America/Denver:20250606T183000
DTSTAMP:20260423T074958
CREATED:20250228T173030Z
LAST-MODIFIED:20250228T173030Z
UID:3578-1749234600-1749234600@ruthsdiner.com
SUMMARY:Maggie and Julie
DESCRIPTION:Music
URL:https://ruthsdiner.com/event/maggie-and-julie-106/
LOCATION:Patio
CATEGORIES:DINNER
END:VEVENT
BEGIN:VEVENT
DTSTART;TZID=America/Denver:20250605T183000
DTEND;TZID=America/Denver:20250605T183000
DTSTAMP:20260423T074958
CREATED:20250228T173029Z
LAST-MODIFIED:20250228T173029Z
UID:3577-1749148200-1749148200@ruthsdiner.com
SUMMARY:Stoddard Brothers
DESCRIPTION:Music
URL:https://ruthsdiner.com/event/stoddard-brothers-32/
LOCATION:Patio
CATEGORIES:DINNER
END:VEVENT
BEGIN:VEVENT
DTSTART;TZID=America/Denver:20250602T183000
DTEND;TZID=America/Denver:20250602T183000
DTSTAMP:20260423T074958
CREATED:20250228T173029Z
LAST-MODIFIED:20250228T173029Z
UID:3576-1748889000-1748889000@ruthsdiner.com
SUMMARY:Ian McIver
DESCRIPTION:Music
URL:https://ruthsdiner.com/event/ian-mciver-26/
LOCATION:Patio
CATEGORIES:DINNER
END:VEVENT
BEGIN:VEVENT
DTSTART;TZID=America/Denver:20250601T110000
DTEND;TZID=America/Denver:20250601T110000
DTSTAMP:20260423T074958
CREATED:20250228T173029Z
LAST-MODIFIED:20250228T173029Z
UID:3575-1748775600-1748775600@ruthsdiner.com
SUMMARY:Maggie and Julie
DESCRIPTION:Music
URL:https://ruthsdiner.com/event/maggie-and-julie-105/
LOCATION:Patio
CATEGORIES:LUNCH
END:VEVENT
BEGIN:VEVENT
DTSTART;TZID=America/Denver:20250531T183000
DTEND;TZID=America/Denver:20250531T183000
DTSTAMP:20260423T074958
CREATED:20250228T173029Z
LAST-MODIFIED:20250228T173029Z
UID:3574-1748716200-1748716200@ruthsdiner.com
SUMMARY:Amy Lamarr
DESCRIPTION:Music
URL:https://ruthsdiner.com/event/amy-lamarr-29/
LOCATION:Patio
CATEGORIES:DINNER
END:VEVENT
BEGIN:VEVENT
DTSTART;TZID=America/Denver:20250530T183000
DTEND;TZID=America/Denver:20250530T183000
DTSTAMP:20260423T074958
CREATED:20250228T173015Z
LAST-MODIFIED:20250228T173015Z
UID:3573-1748629800-1748629800@ruthsdiner.com
SUMMARY:Maggie and Julie
DESCRIPTION:Music
URL:https://ruthsdiner.com/event/maggie-and-julie-104/
LOCATION:Patio
CATEGORIES:DINNER
END:VEVENT
BEGIN:VEVENT
DTSTART;TZID=America/Denver:20250529T183000
DTEND;TZID=America/Denver:20250529T183000
DTSTAMP:20260423T074958
CREATED:20250228T173014Z
LAST-MODIFIED:20250228T173014Z
UID:3572-1748543400-1748543400@ruthsdiner.com
SUMMARY:Stoddard Brothers
DESCRIPTION:Music
URL:https://ruthsdiner.com/event/stoddard-brothers-31/
LOCATION:Patio
CATEGORIES:DINNER
END:VEVENT
BEGIN:VEVENT
DTSTART;TZID=America/Denver:20250526T183000
DTEND;TZID=America/Denver:20250526T183000
DTSTAMP:20260423T074958
CREATED:20250228T173014Z
LAST-MODIFIED:20250228T173014Z
UID:3571-1748284200-1748284200@ruthsdiner.com
SUMMARY:Ian McIver
DESCRIPTION:Music
URL:https://ruthsdiner.com/event/ian-mciver-25/
LOCATION:Patio
CATEGORIES:DINNER
END:VEVENT
BEGIN:VEVENT
DTSTART;TZID=America/Denver:20250526T110000
DTEND;TZID=America/Denver:20250526T110000
DTSTAMP:20260423T074958
CREATED:20250228T173014Z
LAST-MODIFIED:20250228T173014Z
UID:3570-1748257200-1748257200@ruthsdiner.com
SUMMARY:Maggie and Julie
DESCRIPTION:Music
URL:https://ruthsdiner.com/event/maggie-and-julie-103/
LOCATION:Patio
CATEGORIES:LUNCH
END:VEVENT
BEGIN:VEVENT
DTSTART;TZID=America/Denver:20250525T110000
DTEND;TZID=America/Denver:20250525T110000
DTSTAMP:20260423T074958
CREATED:20250228T173014Z
LAST-MODIFIED:20250228T173014Z
UID:3569-1748170800-1748170800@ruthsdiner.com
SUMMARY:Maggie and Julie
DESCRIPTION:Music
URL:https://ruthsdiner.com/event/maggie-and-julie-102/
LOCATION:Patio
CATEGORIES:LUNCH
END:VEVENT
BEGIN:VEVENT
DTSTART;TZID=America/Denver:20250524T183000
DTEND;TZID=America/Denver:20250524T183000
DTSTAMP:20260423T074958
CREATED:20250228T172959Z
LAST-MODIFIED:20250228T172959Z
UID:3568-1748111400-1748111400@ruthsdiner.com
SUMMARY:Amy Lamarr
DESCRIPTION:Music
URL:https://ruthsdiner.com/event/amy-lamarr-28/
LOCATION:Patio
CATEGORIES:DINNER
END:VEVENT
BEGIN:VEVENT
DTSTART;TZID=America/Denver:20250523T183000
DTEND;TZID=America/Denver:20250523T183000
DTSTAMP:20260423T074958
CREATED:20250228T172959Z
LAST-MODIFIED:20250228T172959Z
UID:3567-1748025000-1748025000@ruthsdiner.com
SUMMARY:Maggie and Julie
DESCRIPTION:Music
URL:https://ruthsdiner.com/event/maggie-and-julie-101/
LOCATION:Patio
CATEGORIES:DINNER
END:VEVENT
BEGIN:VEVENT
DTSTART;TZID=America/Denver:20250522T183000
DTEND;TZID=America/Denver:20250522T183000
DTSTAMP:20260423T074958
CREATED:20250228T172959Z
LAST-MODIFIED:20250228T172959Z
UID:3566-1747938600-1747938600@ruthsdiner.com
SUMMARY:Stoddard Brothers
DESCRIPTION:Music
URL:https://ruthsdiner.com/event/stoddard-brothers-30/
LOCATION:Patio
CATEGORIES:DINNER
END:VEVENT
BEGIN:VEVENT
DTSTART;TZID=America/Denver:20250518T110000
DTEND;TZID=America/Denver:20250518T110000
DTSTAMP:20260423T074958
CREATED:20250228T172958Z
LAST-MODIFIED:20250228T172958Z
UID:3565-1747566000-1747566000@ruthsdiner.com
SUMMARY:Maggie and Julie
DESCRIPTION:Music
URL:https://ruthsdiner.com/event/maggie-and-julie-100/
LOCATION:Patio
CATEGORIES:LUNCH
END:VEVENT
BEGIN:VEVENT
DTSTART;TZID=America/Denver:20250511T110000
DTEND;TZID=America/Denver:20250511T110000
DTSTAMP:20260423T074958
CREATED:20250228T172958Z
LAST-MODIFIED:20250228T172958Z
UID:3564-1746961200-1746961200@ruthsdiner.com
SUMMARY:Maggie and Julie
DESCRIPTION:Music
URL:https://ruthsdiner.com/event/maggie-and-julie-99/
LOCATION:Patio
CATEGORIES:LUNCH
END:VEVENT
BEGIN:VEVENT
DTSTART;TZID=America/Denver:20250504T110000
DTEND;TZID=America/Denver:20250504T110000
DTSTAMP:20260423T074958
CREATED:20250228T172957Z
LAST-MODIFIED:20250228T172957Z
UID:3563-1746356400-1746356400@ruthsdiner.com
SUMMARY:Maggie and Julie
DESCRIPTION:Music
URL:https://ruthsdiner.com/event/maggie-and-julie-98/
LOCATION:Patio
CATEGORIES:LUNCH
END:VEVENT
BEGIN:VEVENT
DTSTART;TZID=America/Denver:20250427T110000
DTEND;TZID=America/Denver:20250427T110000
DTSTAMP:20260423T074958
CREATED:20250228T172957Z
LAST-MODIFIED:20250228T172957Z
UID:3562-1745751600-1745751600@ruthsdiner.com
SUMMARY:Maggie and Julie
DESCRIPTION:Music
URL:https://ruthsdiner.com/event/maggie-and-julie-97/
LOCATION:Patio
CATEGORIES:LUNCH
END:VEVENT
BEGIN:VEVENT
DTSTART;TZID=America/Denver:20260423T074958
DTEND;TZID=America/Denver:20260423T074958
DTSTAMP:20260423T074958
CREATED:20260421T181128Z
LAST-MODIFIED:20260421T181128Z
UID:4620-0-0@ruthsdiner.com
SUMMARY:10/11/2026
DESCRIPTION:
URL:https://ruthsdiner.com/event/10-11-2026/
END:VEVENT
BEGIN:VEVENT
DTSTART;TZID=America/Denver:20260423T074958
DTEND;TZID=America/Denver:20260423T074958
DTSTAMP:20260423T074958
CREATED:20260421T181128Z
LAST-MODIFIED:20260421T181128Z
UID:4621-0-0@ruthsdiner.com
SUMMARY:10/18/2026
DESCRIPTION:
URL:https://ruthsdiner.com/event/10-18-2026/
END:VEVENT
BEGIN:VEVENT
DTSTART;TZID=America/Denver:20260423T074958
DTEND;TZID=America/Denver:20260423T074958
DTSTAMP:20260423T074958
CREATED:20260421T181127Z
LAST-MODIFIED:20260421T181127Z
UID:4619-0-0@ruthsdiner.com
SUMMARY:10/4/2026
DESCRIPTION:
URL:https://ruthsdiner.com/event/10-4-2026/
END:VEVENT
BEGIN:VEVENT
DTSTART;TZID=America/Denver:20260423T074958
DTEND;TZID=America/Denver:20260423T074958
DTSTAMP:20260423T074958
CREATED:20260421T181113Z
LAST-MODIFIED:20260421T181113Z
UID:4615-0-0@ruthsdiner.com
SUMMARY:9/7/2025 (LABOR DAY)
DESCRIPTION:
URL:https://ruthsdiner.com/event/9-7-2025-labor-day/
END:VEVENT
BEGIN:VEVENT
DTSTART;TZID=America/Denver:20260423T074958
DTEND;TZID=America/Denver:20260423T074958
DTSTAMP:20260423T074958
CREATED:20260421T181113Z
LAST-MODIFIED:20260421T181113Z
UID:4617-0-0@ruthsdiner.com
SUMMARY:9/20/2026
DESCRIPTION:
URL:https://ruthsdiner.com/event/9-20-2026/
END:VEVENT
BEGIN:VEVENT
DTSTART;TZID=America/Denver:20260423T074958
DTEND;TZID=America/Denver:20260423T074958
DTSTAMP:20260423T074958
CREATED:20260421T181113Z
LAST-MODIFIED:20260421T181113Z
UID:4618-0-0@ruthsdiner.com
SUMMARY:9/27/2026
DESCRIPTION:
URL:https://ruthsdiner.com/event/9-27-2026/
END:VEVENT
BEGIN:VEVENT
DTSTART;TZID=America/Denver:20260423T074958
DTEND;TZID=America/Denver:20260423T074958
DTSTAMP:20260423T074958
CREATED:20260421T181058Z
LAST-MODIFIED:20260421T181058Z
UID:4612-0-0@ruthsdiner.com
SUMMARY:9/5/2026
DESCRIPTION:
URL:https://ruthsdiner.com/event/9-5-2026/
END:VEVENT
BEGIN:VEVENT
DTSTART;TZID=America/Denver:20260423T074958
DTEND;TZID=America/Denver:20260423T074958
DTSTAMP:20260423T074958
CREATED:20260421T181058Z
LAST-MODIFIED:20260421T181058Z
UID:4613-0-0@ruthsdiner.com
SUMMARY:9/6/2026
DESCRIPTION:
URL:https://ruthsdiner.com/event/9-6-2026/
END:VEVENT
BEGIN:VEVENT
DTSTART;TZID=America/Denver:20260423T074958
DTEND;TZID=America/Denver:20260423T074958
DTSTAMP:20260423T074958
CREATED:20260421T181058Z
LAST-MODIFIED:20260421T181058Z
UID:4610-0-0@ruthsdiner.com
SUMMARY:9/3/2026
DESCRIPTION:
URL:https://ruthsdiner.com/event/9-3-2026/
END:VEVENT
BEGIN:VEVENT
DTSTART;TZID=America/Denver:20260423T074958
DTEND;TZID=America/Denver:20260423T074958
DTSTAMP:20260423T074958
CREATED:20260421T181058Z
LAST-MODIFIED:20260421T181058Z
UID:4611-0-0@ruthsdiner.com
SUMMARY:9/4/2026
DESCRIPTION:
URL:https://ruthsdiner.com/event/9-4-2026/
END:VEVENT
END:VCALENDAR