BEGIN:VCALENDAR
VERSION:2.0
PRODID:-//Ruth's Diner - ECPv6.15.15//NONSGML v1.0//EN
CALSCALE:GREGORIAN
METHOD:PUBLISH
X-ORIGINAL-URL:https://ruthsdiner.com
X-WR-CALDESC:Events for Ruth's Diner
REFRESH-INTERVAL;VALUE=DURATION:PT1H
X-Robots-Tag:noindex
X-PUBLISHED-TTL:PT1H
BEGIN:VTIMEZONE
TZID:America/Denver
BEGIN:DAYLIGHT
TZOFFSETFROM:-0700
TZOFFSETTO:-0600
TZNAME:MDT
DTSTART:20240310T090000
END:DAYLIGHT
BEGIN:STANDARD
TZOFFSETFROM:-0600
TZOFFSETTO:-0700
TZNAME:MST
DTSTART:20241103T080000
END:STANDARD
BEGIN:DAYLIGHT
TZOFFSETFROM:-0700
TZOFFSETTO:-0600
TZNAME:MDT
DTSTART:20250309T090000
END:DAYLIGHT
BEGIN:STANDARD
TZOFFSETFROM:-0600
TZOFFSETTO:-0700
TZNAME:MST
DTSTART:20251102T080000
END:STANDARD
BEGIN:DAYLIGHT
TZOFFSETFROM:-0700
TZOFFSETTO:-0600
TZNAME:MDT
DTSTART:20260308T090000
END:DAYLIGHT
BEGIN:STANDARD
TZOFFSETFROM:-0600
TZOFFSETTO:-0700
TZNAME:MST
DTSTART:20261101T080000
END:STANDARD
BEGIN:DAYLIGHT
TZOFFSETFROM:-0700
TZOFFSETTO:-0600
TZNAME:MDT
DTSTART:20270314T090000
END:DAYLIGHT
BEGIN:STANDARD
TZOFFSETFROM:-0600
TZOFFSETTO:-0700
TZNAME:MST
DTSTART:20271107T080000
END:STANDARD
END:VTIMEZONE
BEGIN:VEVENT
DTSTART;TZID=America/Denver:20250824T110000
DTEND;TZID=America/Denver:20250824T110000
DTSTAMP:20260421T111809
CREATED:20250228T173821Z
LAST-MODIFIED:20250228T173821Z
UID:3637-1756033200-1756033200@ruthsdiner.com
SUMMARY:Maggie and Julie
DESCRIPTION:Music
URL:https://ruthsdiner.com/event/maggie-and-julie-126/
LOCATION:Patio
CATEGORIES:LUNCH
END:VEVENT
BEGIN:VEVENT
DTSTART;TZID=America/Denver:20250825T183000
DTEND;TZID=America/Denver:20250825T183000
DTSTAMP:20260421T111809
CREATED:20250228T173822Z
LAST-MODIFIED:20250228T173822Z
UID:3638-1756146600-1756146600@ruthsdiner.com
SUMMARY:Ian McIver
DESCRIPTION:Music
URL:https://ruthsdiner.com/event/ian-mciver-38/
LOCATION:Patio
CATEGORIES:DINNER
END:VEVENT
BEGIN:VEVENT
DTSTART;TZID=America/Denver:20250828T183000
DTEND;TZID=America/Denver:20250828T183000
DTSTAMP:20260421T111809
CREATED:20250228T174022Z
LAST-MODIFIED:20250228T174022Z
UID:3639-1756405800-1756405800@ruthsdiner.com
SUMMARY:Stoddard Brothers
DESCRIPTION:Music
URL:https://ruthsdiner.com/event/stoddard-brothers-44/
LOCATION:Patio
CATEGORIES:DINNER
END:VEVENT
BEGIN:VEVENT
DTSTART;TZID=America/Denver:20250829T183000
DTEND;TZID=America/Denver:20250829T183000
DTSTAMP:20260421T111809
CREATED:20250228T174022Z
LAST-MODIFIED:20250228T174022Z
UID:3640-1756492200-1756492200@ruthsdiner.com
SUMMARY:Maggie and Julie
DESCRIPTION:Music
URL:https://ruthsdiner.com/event/maggie-and-julie-127/
LOCATION:Patio
CATEGORIES:DINNER
END:VEVENT
BEGIN:VEVENT
DTSTART;TZID=America/Denver:20250830T183000
DTEND;TZID=America/Denver:20250830T183000
DTSTAMP:20260421T111809
CREATED:20250228T174022Z
LAST-MODIFIED:20250228T174022Z
UID:3641-1756578600-1756578600@ruthsdiner.com
SUMMARY:Amy Lamarr
DESCRIPTION:Music
URL:https://ruthsdiner.com/event/amy-lamarr-42/
LOCATION:Patio
CATEGORIES:DINNER
END:VEVENT
BEGIN:VEVENT
DTSTART;TZID=America/Denver:20250831T110000
DTEND;TZID=America/Denver:20250831T110000
DTSTAMP:20260421T111809
CREATED:20250228T174022Z
LAST-MODIFIED:20250228T174022Z
UID:3642-1756638000-1756638000@ruthsdiner.com
SUMMARY:Maggie and Julie
DESCRIPTION:Music
URL:https://ruthsdiner.com/event/maggie-and-julie-128/
LOCATION:Patio
CATEGORIES:LUNCH
END:VEVENT
BEGIN:VEVENT
DTSTART;TZID=America/Denver:20250901T110000
DTEND;TZID=America/Denver:20250901T110000
DTSTAMP:20260421T111809
CREATED:20250228T174023Z
LAST-MODIFIED:20250228T174023Z
UID:3643-1756724400-1756724400@ruthsdiner.com
SUMMARY:Maggie and Julie
DESCRIPTION:Music
URL:https://ruthsdiner.com/event/maggie-and-julie-129/
LOCATION:Patio
CATEGORIES:LUNCH
END:VEVENT
BEGIN:VEVENT
DTSTART;TZID=America/Denver:20260412T110000
DTEND;TZID=America/Denver:20260412T140000
DTSTAMP:20260421T111809
CREATED:20260408T225952Z
LAST-MODIFIED:20260408T225952Z
UID:4322-1775991600-1776002400@ruthsdiner.com
SUMMARY:Maggie and Julie
DESCRIPTION:
URL:https://ruthsdiner.com/event/maggie-and-julie-130/
CATEGORIES:LUNCH
END:VEVENT
BEGIN:VEVENT
DTSTART;TZID=America/Denver:20260414T110000
DTEND;TZID=America/Denver:20260510T140000
DTSTAMP:20260421T111809
CREATED:20260414T172705Z
LAST-MODIFIED:20260414T172705Z
UID:4348-1776164400-1778421600@ruthsdiner.com
SUMMARY:Maggie and Julie (Mother's Day)
DESCRIPTION:
URL:https://ruthsdiner.com/event/maggie-and-julie-mothers-day/
END:VEVENT
BEGIN:VEVENT
DTSTART;TZID=America/Denver:20260419T110000
DTEND;TZID=America/Denver:20260419T140000
DTSTAMP:20260421T111809
CREATED:20260414T165116Z
LAST-MODIFIED:20260414T165116Z
UID:4342-1776596400-1776607200@ruthsdiner.com
SUMMARY:Maggie and Julie
DESCRIPTION:
URL:https://ruthsdiner.com/event/maggie-and-julie-131/
END:VEVENT
BEGIN:VEVENT
DTSTART;TZID=America/Denver:20260426T110000
DTEND;TZID=America/Denver:20260426T140000
DTSTAMP:20260421T111809
CREATED:20260414T165403Z
LAST-MODIFIED:20260414T165403Z
UID:4344-1777201200-1777212000@ruthsdiner.com
SUMMARY:Maggie and Julie
DESCRIPTION:
URL:https://ruthsdiner.com/event/maggie-and-julie-132/
END:VEVENT
BEGIN:VEVENT
DTSTART;TZID=America/Denver:20260503T110000
DTEND;TZID=America/Denver:20260503T140000
DTSTAMP:20260421T111809
CREATED:20260414T172514Z
LAST-MODIFIED:20260414T172514Z
UID:4346-1777806000-1777816800@ruthsdiner.com
SUMMARY:Maggie and Julie
DESCRIPTION:
URL:https://ruthsdiner.com/event/maggie-and-julie-133/
END:VEVENT
BEGIN:VEVENT
DTSTART;TZID=America/Denver:20260517T110000
DTEND;TZID=America/Denver:20260517T140000
DTSTAMP:20260421T111809
CREATED:20260414T172816Z
LAST-MODIFIED:20260414T172816Z
UID:4350-1779015600-1779026400@ruthsdiner.com
SUMMARY:Maggie and Julie
DESCRIPTION:
URL:https://ruthsdiner.com/event/maggie-and-julie-134/
END:VEVENT
BEGIN:VEVENT
DTSTART;TZID=America/Denver:20260521T190000
DTEND;TZID=America/Denver:20260521T210000
DTSTAMP:20260421T111809
CREATED:20260414T173917Z
LAST-MODIFIED:20260414T173917Z
UID:4352-1779390000-1779397200@ruthsdiner.com
SUMMARY:Stoddard Brothers
DESCRIPTION:
URL:https://ruthsdiner.com/event/stoddard-brothers-45/
END:VEVENT
BEGIN:VEVENT
DTSTART;TZID=America/Denver:20260522T190000
DTEND;TZID=America/Denver:20260522T210000
DTSTAMP:20260421T111809
CREATED:20260414T174709Z
LAST-MODIFIED:20260414T174709Z
UID:4354-1779476400-1779483600@ruthsdiner.com
SUMMARY:Maggie and Julie
DESCRIPTION:
URL:https://ruthsdiner.com/event/maggie-and-julie-135/
END:VEVENT
BEGIN:VEVENT
DTSTART;TZID=America/Denver:20260523T190000
DTEND;TZID=America/Denver:20260523T210000
DTSTAMP:20260421T111809
CREATED:20260414T175055Z
LAST-MODIFIED:20260414T175055Z
UID:4356-1779562800-1779570000@ruthsdiner.com
SUMMARY:Amy Lamarr
DESCRIPTION:
URL:https://ruthsdiner.com/event/amy-lamarr-43/
END:VEVENT
BEGIN:VEVENT
DTSTART;TZID=America/Denver:20260525T110000
DTEND;TZID=America/Denver:20260525T140000
DTSTAMP:20260421T111809
CREATED:20260415T122129Z
LAST-MODIFIED:20260415T122129Z
UID:4363-1779706800-1779717600@ruthsdiner.com
SUMMARY:Maggie and Julie (Memorial Day)
DESCRIPTION:
URL:https://ruthsdiner.com/event/maggie-and-julie-memorial-day/
END:VEVENT
BEGIN:VEVENT
DTSTART;TZID=America/Denver:20260525T110000
DTEND;TZID=America/Denver:20260525T140000
DTSTAMP:20260421T111809
CREATED:20260415T122229Z
LAST-MODIFIED:20260415T122229Z
UID:4365-1779706800-1779717600@ruthsdiner.com
SUMMARY:Ian McIver (Memorial Day)
DESCRIPTION:
URL:https://ruthsdiner.com/event/ian-mciver-memorial-day/
END:VEVENT
BEGIN:VEVENT
DTSTART;TZID=America/Denver:20260528T190000
DTEND;TZID=America/Denver:20260528T210000
DTSTAMP:20260421T111809
CREATED:20260415T122337Z
LAST-MODIFIED:20260415T122353Z
UID:4367-1779994800-1780002000@ruthsdiner.com
SUMMARY:Stoddard Brothers
DESCRIPTION:
URL:https://ruthsdiner.com/event/stoddard-brothers-46/
END:VEVENT
BEGIN:VEVENT
DTSTART;TZID=America/Denver:20260529T190000
DTEND;TZID=America/Denver:20260529T210000
DTSTAMP:20260421T111809
CREATED:20260415T122518Z
LAST-MODIFIED:20260415T122518Z
UID:4369-1780081200-1780088400@ruthsdiner.com
SUMMARY:Maggie and Julie
DESCRIPTION:
URL:https://ruthsdiner.com/event/maggie-and-julie-137/
END:VEVENT
BEGIN:VEVENT
DTSTART;TZID=America/Denver:20260530T190000
DTEND;TZID=America/Denver:20260530T210000
DTSTAMP:20260421T111809
CREATED:20260415T122622Z
LAST-MODIFIED:20260415T122633Z
UID:4371-1780167600-1780174800@ruthsdiner.com
SUMMARY:Amy Lamarr
DESCRIPTION:
URL:https://ruthsdiner.com/event/amy-lamar/
END:VEVENT
BEGIN:VEVENT
DTSTART;TZID=America/Denver:20260531T110000
DTEND;TZID=America/Denver:20260531T140000
DTSTAMP:20260421T111809
CREATED:20260415T122732Z
LAST-MODIFIED:20260415T122732Z
UID:4374-1780225200-1780236000@ruthsdiner.com
SUMMARY:Maggie and Julie
DESCRIPTION:
URL:https://ruthsdiner.com/event/maggie-and-julie-138/
END:VEVENT
BEGIN:VEVENT
DTSTART;TZID=America/Denver:20260601T190000
DTEND;TZID=America/Denver:20260601T210000
DTSTAMP:20260421T111809
CREATED:20260415T122904Z
LAST-MODIFIED:20260415T122904Z
UID:4376-1780340400-1780347600@ruthsdiner.com
SUMMARY:Ian McIver
DESCRIPTION:
URL:https://ruthsdiner.com/event/ian-mciver-39/
END:VEVENT
BEGIN:VEVENT
DTSTART;TZID=America/Denver:20260604T190000
DTEND;TZID=America/Denver:20260604T210000
DTSTAMP:20260421T111809
CREATED:20260415T123014Z
LAST-MODIFIED:20260415T123014Z
UID:4378-1780599600-1780606800@ruthsdiner.com
SUMMARY:Stoddard Brothers
DESCRIPTION:
URL:https://ruthsdiner.com/event/stoddard-brothers-47/
END:VEVENT
BEGIN:VEVENT
DTSTART;TZID=America/Denver:20260605T190000
DTEND;TZID=America/Denver:20260605T210000
DTSTAMP:20260421T111809
CREATED:20260415T123105Z
LAST-MODIFIED:20260415T123105Z
UID:4380-1780686000-1780693200@ruthsdiner.com
SUMMARY:Maggie and Julie
DESCRIPTION:
URL:https://ruthsdiner.com/event/maggie-and-julie-139/
END:VEVENT
BEGIN:VEVENT
DTSTART;TZID=America/Denver:20260606T190000
DTEND;TZID=America/Denver:20260606T210000
DTSTAMP:20260421T111809
CREATED:20260415T125815Z
LAST-MODIFIED:20260415T125908Z
UID:4382-1780772400-1780779600@ruthsdiner.com
SUMMARY:Amy Lamarr
DESCRIPTION:
URL:https://ruthsdiner.com/event/amy-lamarr-44/
END:VEVENT
BEGIN:VEVENT
DTSTART;TZID=America/Denver:20260607T110000
DTEND;TZID=America/Denver:20260607T140000
DTSTAMP:20260421T111809
CREATED:20260415T130057Z
LAST-MODIFIED:20260415T130057Z
UID:4386-1780830000-1780840800@ruthsdiner.com
SUMMARY:Maggie and Julie
DESCRIPTION:
URL:https://ruthsdiner.com/event/maggie-and-julie-140/
END:VEVENT
BEGIN:VEVENT
DTSTART;TZID=America/Denver:20260608T190000
DTEND;TZID=America/Denver:20260608T210000
DTSTAMP:20260421T111809
CREATED:20260415T130149Z
LAST-MODIFIED:20260415T130149Z
UID:4388-1780945200-1780952400@ruthsdiner.com
SUMMARY:Ian McIver
DESCRIPTION:
URL:https://ruthsdiner.com/event/ian-mciver-40/
END:VEVENT
BEGIN:VEVENT
DTSTART;TZID=America/Denver:20260611T190000
DTEND;TZID=America/Denver:20260611T210000
DTSTAMP:20260421T111809
CREATED:20260415T130302Z
LAST-MODIFIED:20260415T130302Z
UID:4390-1781204400-1781211600@ruthsdiner.com
SUMMARY:Stoddard Brothers
DESCRIPTION:
URL:https://ruthsdiner.com/event/stoddard-brothers-48/
END:VEVENT
BEGIN:VEVENT
DTSTART;TZID=America/Denver:20260612T190000
DTEND;TZID=America/Denver:20260612T210000
DTSTAMP:20260421T111809
CREATED:20260415T130644Z
LAST-MODIFIED:20260415T130644Z
UID:4392-1781290800-1781298000@ruthsdiner.com
SUMMARY:Maggie and Julie
DESCRIPTION:
URL:https://ruthsdiner.com/event/maggie-and-julie-141/
END:VEVENT
END:VCALENDAR